Workbook
Name ambiente: Tablas!$I$4:$I$7
Name Convocatorias: Tablas!$B$29:$B$32
Name Cultura: Tablas!$I$8:$I$14
Name DECARRERA: Tablas!$P$3:$R$72
Name desarrollo: Tablas!$I$15:$I$17
Name educación: Tablas!$I$18:$I$20
Name gestión: Tablas!$I$22:$I$23
Name gobierno: Tablas!$I$24:$I$26
Name hábitat: Tablas!$I$27:$I$31
Name hacienda: Tablas!$I$32:$I$35
Name integración: Tablas!$I$36:$I$37
Name jurídica: Tablas!$I$21
Name localidades: Tablas!$I$38:$I$57
Name movilidad: Tablas!$I$58:$I$62
Name mujeres: Tablas!$I$63
Name Organismos: Tablas!$I$64:$I$67
Name planeación: Tablas!$I$68
Name salud: Tablas!$I$69:$I$73
Name SECTORES: Tablas!$A$4:$B$21
Name seguridad: Tablas!$I$74:$I$75

Sheet Caracterización
F1: PROCESO GESTIÓN DELTALENTO HUMANO
F4: MATRIZ DE CONSOLIDACIÓN DE VACANTES DEFINITIVAS EN EMPLEOS DE CARRERA ADMINISTRATIVA
B5: 1. INFORMACIÓN GENERAL DE LA ENTIDAD
G7: SECTOR: | H7: Gobierno
G9: ENTIDAD: | H9: INSTITUTO DISTRITAL DE LA PARTICIPACIÓN Y ACCIÓN COMUNAL -IDPAC-
G11: NIVEL ADMINISTRATIVO: | H11: PROFESIONAL
G13: TIPOS DE VINCULACIÓN: | H13: CARRERA ADMINISTRATIVA
G15: RESPONSABLE DEL REPORTE: | H15: BRIYITH ALEJANDRA CASTELLANOS HERRERA
G17: CARGO: | H17: PROFESIONAL UNIVERSITARIO 219 - 02 ( E )
G19: CORREO ELECTRÓNICO | H19: bcastellanos@participacionbogota.gov.co
G21: TELÉFONO: | H21: 2417900 | L21: EXTENSIÓN: | N21: 3209
G23: DIRECTIVO RESPONSABLE : | H23: YULY MARCELA BARAJAS AGUILERA
G25: CARGO: | H25: SECRETARIA GENERAL
B27: 2. INFORMACIÓN DE CONVOCATORIAS EN CURSO
C29: Por favor conteste las siguientes preguntas relacionadas con los empleos de Carrera Administrativa
C31: A. Con cuantos empleo de Carrera Administrativa cuenta la entidad en este momento.
P32: La suma de estas dos columnas no podrá ser mayor que la de vacancias definitivas
G33: Total planta | K33: En vacancia definitiva Provistos o no | P33: En periodo de prueba | U33: En provisionalidad En vacancia definitiva
E35: Nivel asesor: | G35: 1 | L35: 0 | Q35: 0 | V35: 0
E37: Nivel profesional: | G37: 49 | L37: 10 | Q37: 0 | V37: 1
E39: Nivel técnico: | G39: 7 | L39: 2 | Q39: 0 | V39: 1
E41: Nivel asistencial: | G41: 35 | L41: 3 | Q41: 0 | V41: 0
E43: Otros niveles: | G43: 17 | L43: 0 | Q43: 0 | V43: 0
E45: Total: | G45: =G35+G37+G39+G41+G43 -> 109 | L45: =L35+L37+L39+L41+L43 -> 15 | Q45: =Q35+Q37+Q39+Q41+Q43 -> 0 | V45: =V35+V37+V39+V41+V43 -> 2
C47: B. Que convocatorias tiene vigentes la entidad
F49: Convocatoria: | H49: Distrito 6 | K49: Fecha: | M49: 45280 | R49: Cargos ofertados: | T49: 12 | W49: =IF(T49<1,"",IF(COUNTIFS(Detalle!$J$9:$J$1593,H49)>T49,"Se relacionan más empleos en el detalle, favor verificar",IF(COUNTIFS(Detalle!$J$9:$J$1593,H49)<T49,"Se relacionan menos empleos en el detalle, favor verificar","")))
F51: Convocatoria: | H51: Distrito 7 | K51: Fecha: | R51: Cargos ofertados: | T51: 3 | W51: =IF(T51<1,"",IF(COUNTIFS(Detalle!$J$9:$J$1593,H51)>T51,"Se relacionan más empleos en el detalle, favor verificar",IF(COUNTIFS(Detalle!$J$9:$J$1593,H51)<T51,"Se relacionan menos empleos en el detalle, favor verificar","")))
F53: Convocatoria: | K53: Fecha: | R53: Cargos ofertados: | T53: 0 | W53: =IF(T53<1,"",IF(COUNTIFS(Detalle!$J$9:$J$1593,H53)>T53,"Se relacionan más empleos en el detalle, favor verificar",IF(COUNTIFS(Detalle!$J$9:$J$1593,H53)<T53,"Se relacionan menos empleos en el detalle, favor verificar","")))
F55: Convocatoria: | K55: Fecha: | R55: Cargos ofertados: | W55: =IF(T55<1,"",IF(COUNTIFS(Detalle!$J$9:$J$1593,H55)>T55,"Se relacionan más empleos en el detalle, favor verificar",IF(COUNTIFS(Detalle!$J$9:$J$1593,H55)<T55,"Se relacionan menos empleos en el detalle, favor verificar","")))
R57: Total cargos ofertados: | T57: =T49+T51+T53+T55 -> 15
B58: Arriba | D58: Por favor diligenciar el detalle en la siguiente hoja
D59: Si requiere asistencia por favor comunicarse al teléfono 3680038 ext 1509, 1306

Sheet Detalle
B1: MACROPROCESO DIRECCIONAMIENTO INSTITUCIONAL
B2: PROCESO GESTIÓN DEL CONOCIMIENTO
B4: MATRIZ DE CONSOLIDACIÓN DE VACANTES DEFINITIVAS EN EMPLEOS DE CARRERA ADMINISTRATIVA
B5: 1. INFORMACIÓN DETALLADA DE CADA CARGO EN VACANCIA DEFINITIVA
B7: Datos de los empleos de carrera | G7: Como se está desempeñando | J7: Convocatoria
B8: Código del empleo | C8: Nivel Jerárquico | D8: Denominación del Empleo | E8: Grado | F8: Fecha desde la cual está vacante | G8: Situación actual: | H8: Número de cédula de quien lo desempeña | I8: Fecha desde cuando se presenta la situación | J8: Convocatoria | K8: El cargo dispone de lista de elegibles | L8: Código OPEC
B9: 219 | C9: =IFERROR(VLOOKUP(B9,DECARRERA,3,FALSE),"") -> Profesional | D9: =IFERROR(VLOOKUP(B9,DECARRERA,2,FALSE),"") -> Profesional Universitario | E9: 1 | F9: 44138 | G9: En encargo | H9: 1026586613 | I9: 45435 | J9: Distrito 6 | K9: No | L9: 203253
B10: 219 | C10: =IFERROR(VLOOKUP(B10,DECARRERA,3,FALSE),"") -> Profesional | D10: =IFERROR(VLOOKUP(B10,DECARRERA,2,FALSE),"") -> Profesional Universitario | E10: 2 | F10: 44197 | G10: En Provisionalidad | H10: 1018463036 | I10: 44342 | J10: Distrito 6 | K10: No | L10: 203248
B11: 219 | C11: =IFERROR(VLOOKUP(B11,DECARRERA,3,FALSE),"") -> Profesional | D11: =IFERROR(VLOOKUP(B11,DECARRERA,2,FALSE),"") -> Profesional Universitario | E11: 1 | F11: 44138 | G11: En encargo | H11: 80224327 | I11: 44609 | J11: Distrito 6 | K11: No | L11: 203252
B12: 219 | C12: =IFERROR(VLOOKUP(B12,DECARRERA,3,FALSE),"") -> Profesional | D12: =IFERROR(VLOOKUP(B12,DECARRERA,2,FALSE),"") -> Profesional Universitario | E12: 3 | F12: 44562 | G12: En encargo | H12: 1012350602 | I12: 45114 | J12: Distrito 6 | K12: No | L12: 203254
B13: 219 | C13: =IFERROR(VLOOKUP(B13,DECARRERA,3,FALSE),"") -> Profesional | D13: =IFERROR(VLOOKUP(B13,DECARRERA,2,FALSE),"") -> Profesional Universitario | E13: 3 | F13: 44849 | G13: En encargo | H13: 51741770 | I13: 44930 | J13: Distrito 6 | K13: No | L13: 205043
B14: 219 | C14: =IFERROR(VLOOKUP(B14,DECARRERA,3,FALSE),"") -> Profesional | D14: =IFERROR(VLOOKUP(B14,DECARRERA,2,FALSE),"") -> Profesional Universitario | E14: 3 | F14: 44810 | G14: En encargo | H14: 39532223 | I14: 45114 | J14: Distrito 6 | K14: No | L14: 203256
B15: 219 | C15: =IFERROR(VLOOKUP(B15,DECARRERA,3,FALSE),"") -> Profesional | D15: =IFERROR(VLOOKUP(B15,DECARRERA,2,FALSE),"") -> Profesional Universitario | E15: 2 | F15: 44958 | G15: En encargo | H15: 52232757 | I15: 44958 | J15: Distrito 6 | K15: No | L15: 205042
B16: 219 | C16: =IFERROR(VLOOKUP(B16,DECARRERA,3,FALSE),"") -> Profesional | D16: =IFERROR(VLOOKUP(B16,DECARRERA,2,FALSE),"") -> Profesional Universitario | E16: 2 | F16: 44958 | G16: En encargo | H16: 52431563 | I16: 45114 | J16: Distrito 6 | K16: No | L16: 203251
B17: 219 | C17: =IFERROR(VLOOKUP(B17,DECARRERA,3,FALSE),"") -> Profesional | D17: =IFERROR(VLOOKUP(B17,DECARRERA,2,FALSE),"") -> Profesional Universitario | E17: 3 | F17: 45169 | G17: En encargo | H17: 79121744 | I17: 45274 | J17: Distrito 6 | K17: No | L17: 209939
B18: 219 | C18: =IFERROR(VLOOKUP(B18,DECARRERA,3,FALSE),"") -> Profesional | D18: =IFERROR(VLOOKUP(B18,DECARRERA,2,FALSE),"") -> Profesional Universitario | E18: 3 | F18: 45443 | G18: En encargo | H18: 79505923 | I18: 45635 | J18: Distrito 7 | K18: No | L18: 0
C19: =IFERROR(VLOOKUP(B19,DECARRERA,3,FALSE),"") | D19: =IFERROR(VLOOKUP(B19,DECARRERA,2,FALSE),"")
C20: =IFERROR(VLOOKUP(B20,DECARRERA,3,FALSE),"") | D20: =IFERROR(VLOOKUP(B20,DECARRERA,2,FALSE),"")
C21: =IFERROR(VLOOKUP(B21,DECARRERA,3,FALSE),"") | D21: =IFERROR(VLOOKUP(B21,DECARRERA,2,FALSE),"")
C22: =IFERROR(VLOOKUP(B22,DECARRERA,3,FALSE),"") | D22: =IFERROR(VLOOKUP(B22,DECARRERA,2,FALSE),"")
C23: =IFERROR(VLOOKUP(B23,DECARRERA,3,FALSE),"") | D23: =IFERROR(VLOOKUP(B23,DECARRERA,2,FALSE),"")
B24: 314 | C24: =IFERROR(VLOOKUP(B24,DECARRERA,3,FALSE),"") -> Técnico | D24: =IFERROR(VLOOKUP(B24,DECARRERA,2,FALSE),"") -> Técnico Operativo | E24: 1 | F24: 44743 | G24: En Provisionalidad | H24: 1019140849 | I24: 45307 | J24: Distrito 6 | K24: No | L24: 203249
B25: 314 | C25: =IFERROR(VLOOKUP(B25,DECARRERA,3,FALSE),"") -> Técnico | D25: =IFERROR(VLOOKUP(B25,DECARRERA,2,FALSE),"") -> Técnico Operativo | E25: 3 | F25: 44573 | G25: En encargo | H25: 53130862 | I25: 45303 | J25: Distrito 6 | K25: No | L25: 203255
B26: 407 | C26: =IFERROR(VLOOKUP(B26,DECARRERA,3,FALSE),"") -> Asistencial | D26: =IFERROR(VLOOKUP(B26,DECARRERA,2,FALSE),"") -> Auxiliar Administrativo | E26: 7 | F26: 45196 | G26: Vacante | I26: 45196 | J26: Distrito 7 | K26: No | L26: 0
B27: 425 | C27: =IFERROR(VLOOKUP(B27,DECARRERA,3,FALSE),"") -> Asistencial | D27: =IFERROR(VLOOKUP(B27,DECARRERA,2,FALSE),"") -> Secretario Ejecutivo | E27: 7 | F27: 45291 | G27: Vacante | H27: 51745515 | I27: 45635 | J27: Distrito 6 | K27: No | L27: 219756
B28: 425 | C28: =IFERROR(VLOOKUP(B28,DECARRERA,3,FALSE),"") -> Asistencial | D28: =IFERROR(VLOOKUP(B28,DECARRERA,2,FALSE),"") -> Secretario Ejecutivo | E28: 6 | F28: 45364 | G28: En encargo | H28: 79292359 | I28: 45364 | J28: Distrito 7 | K28: No | L28: 0
C29: =IFERROR(VLOOKUP(B29,DECARRERA,3,FALSE),"") | D29: =IFERROR(VLOOKUP(B29,DECARRERA,2,FALSE),"")
C30: =IFERROR(VLOOKUP(B30,DECARRERA,3,FALSE),"") | D30: =IFERROR(VLOOKUP(B30,DECARRERA,2,FALSE),"")
C31: =IFERROR(VLOOKUP(B31,DECARRERA,3,FALSE),"") | D31: =IFERROR(VLOOKUP(B31,DECARRERA,2,FALSE),"")
C32: =IFERROR(VLOOKUP(B32,DECARRERA,3,FALSE),"") | D32: =IFERROR(VLOOKUP(B32,DECARRERA,2,FALSE),"")
C33: =IFERROR(VLOOKUP(B33,DECARRERA,3,FALSE),"") | D33: =IFERROR(VLOOKUP(B33,DECARRERA,2,FALSE),"")
C34: =IFERROR(VLOOKUP(B34,DECARRERA,3,FALSE),"") | D34: =IFERROR(VLOOKUP(B34,DECARRERA,2,FALSE),"")
C35: =IFERROR(VLOOKUP(B35,DECARRERA,3,FALSE),"") | D35: =IFERROR(VLOOKUP(B35,DECARRERA,2,FALSE),"")
C36: =IFERROR(VLOOKUP(B36,DECARRERA,3,FALSE),"") | D36: =IFERROR(VLOOKUP(B36,DECARRERA,2,FALSE),"")
C37: =IFERROR(VLOOKUP(B37,DECARRERA,3,FALSE),"") | D37: =IFERROR(VLOOKUP(B37,DECARRERA,2,FALSE),"")
C38: =IFERROR(VLOOKUP(B38,DECARRERA,3,FALSE),"") | D38: =IFERROR(VLOOKUP(B38,DECARRERA,2,FALSE),"")
C39: =IFERROR(VLOOKUP(B39,DECARRERA,3,FALSE),"") | D39: =IFERROR(VLOOKUP(B39,DECARRERA,2,FALSE),"")
C40: =IFERROR(VLOOKUP(B40,DECARRERA,3,FALSE),"") | D40: =IFERROR(VLOOKUP(B40,DECARRERA,2,FALSE),"")
... C1593: =IFERROR(VLOOKUP(B1593,DECARRERA,3,FALSE),"") | D1593: =IFERROR(VLOOKUP(B1593,DECARRERA,2,FALSE),"")
B1594: Arriba | C1594: ____ | D1594: ____ | E1594: ____ | F1594: ____ | G1594: ____ | H1594: ____ | I1594: ____ | J1594: ____ | K1594: ____ | L1594: ____

Sheet Tablas
G3: CÓD | H3: SECTOR | I3: ENTIDAD | J3: NIVEL | K3: Contratos de prestación de Servicios | P3: 105 | Q3: Asesor | R3: Asesor
A4: Localidades | B4: Localidades | D4: =VLOOKUP([1]Caracterización!G8,SECTORES,2,FALSE) -> Movilidad | G4: 126 | H4: Ambiente | I4: Secretaría Distrital de Ambiente | J4: Central | K4: Empleados público / Contratos de prestación de Servicios | P4: 201 | Q4: Tesorero General | R4: Profesional
A5: Ambiente | B5: Ambiente | G5: 203 | H5: Ambiente | I5: Instituto Distrital de la Gestión del Riesgo y Cambio Climático - IDIGER | J5: Descentralizado | K5: Empleados público / Contratos de prestación de Servicios | P5: 202 | Q5: Comisario de Familia | R5: Profesional
A6: Cultura Recreación y Deporte | B6: Cultura | G6: 218 | H6: Ambiente | I6: Jardín Botánico "José Celestino Mutis" | J6: Descentralizado | K6: Empleados público / Contratos de prestación de Servicios | P6: 203 | Q6: Comandante de Bomberos | R6: Profesional
A7: Desarrollo Económico Industria y Turismo | B7: Desarrollo | G7: 237 | H7: Ambiente | I7: Instituto Distrital de Protección y Bienestar Animal – IDPYBA | J7: Descentralizado | K7: Empleados público / Contratos de prestación de Servicios | P7: 204 | Q7: Copiloto de Aviación | R7: Profesional
A8: Educación | B8: Educación | G8: 119 | H8: Cultura Recreación y Deporte | I8: Secretaría Distrital de Cultura, Recreación y Deporte | J8: Central | K8: Empleados público / Contratos de prestación de Servicios | P8: 206 | Q8: Líder de Programa | R8: Profesional
A9: Gestión Jurídica | B9: Jurídica | G9: 211 | H9: Cultura Recreación y Deporte | I9: Instituto Distrital de Recreación y Deporte – IDRD | J9: Descentralizado | K9: Empleados público / Trabajadores Oficiales / Contratos de prestación de Servicios | P9: 208 | Q9: Líder de Proyecto | R9: Profesional
A10: Gestión Pública | B10: Gestión | G10: 213 | H10: Cultura Recreación y Deporte | I10: Instituto Distrital del Patrimonio Cultural - IDPC | J10: Descentralizado | K10: Empleados público / Contratos de prestación de Servicios | P10: 209 | Q10: Maestro en Artes | R10: Profesional
A11: Gobierno | B11: Gobierno | G11: 215 | H11: Cultura Recreación y Deporte | I11: Fundación Gilberto Álzate Avendaño - FUGA | J11: Descentralizado | K11: Empleados público / Contratos de prestación de Servicios | P11: 211 | Q11: Médico General | R11: Profesional
A12: Hábitat | B12: Hábitat | G12: 216 | H12: Cultura Recreación y Deporte | I12: Orquesta Filarmónica de Bogotá - OFB | J12: Descentralizado | K12: Empleados público / Trabajadores Oficiales / Contratos de prestación de Servicios | P12: 213 | Q12: Médico Especialista | R12: Profesional
A13: Hacienda | B13: Hacienda | G13: 222 | H13: Cultura Recreación y Deporte | I13: Instituto Distrital de las Artes - IDARTES | J13: Descentralizado | K13: Empleados público / Contratos de prestación de Servicios | P13: 214 | Q13: Odontólogo | R13: Profesional
A14: Integración Social | B14: Integración | G14: 260 | H14: Cultura Recreación y Deporte | I14: Canal Capital | J14: Descentralizado | K14: Empleados público / Trabajadores Oficiales / Contratos de prestación de Servicios | P14: 215 | Q14: Almacenista General | R14: Profesional
A15: Movilidad | B15: Movilidad | G15: 117 | H15: Desarrollo Económico Industria y Turismo | I15: Secretaría Distrital de Desarrollo Económico | J15: Central | K15: Empleados público / Contratos de prestación de Servicios | P15: 216 | Q15: Odontólogo Especialista | R15: Profesional
A16: Mujeres | B16: Mujeres | G16: 200 | H16: Desarrollo Económico Industria y Turismo | I16: Instituto para la Economía Social - IPES | J16: Descentralizado | K16: Empleados público / Contratos de prestación de Servicios | P16: 217 | Q16: Profesional Servicio Social Obligatorio | R16: Profesional
... A21: Privados | B21: Privado | G21: 136 | H21: Gestión Jurídica | I21: Secretaría Jurídica Distrital | J21: Central | K21: Empleados público / Contratos de prestación de Servicios | P21: 231 | Q21: Músico de Banda | R21: Profesional
G22: 104 | H22: Gestión Pública | I22: Secretaría General de la Alcaldía Mayor de Bogotá | J22: Central | K22: Empleados público / Contratos de prestación de Servicios | P22: 232 | Q22: Director de Centro de Institución Técnica Profesional | R22: Profesional
G23: 125 | H23: Gestión Pública | I23: Departamento Administrativo del Servicio Civil Distrital - DASCD | J23: Central | K23: Empleados público / Contratos de prestación de Servicios | P23: 233 | Q23: Inspector de Policía Urbano Categoría Especial y 1ª Categoría | R23: Profesional
G24: 110 | H24: Gobierno | I24: Secretaría Distrital de Gobierno | J24: Central | K24: Empleados público / Contratos de prestación de Servicios | P24: 234 | Q24: Inspector de Policía Urbano 2ª Categoría | R24: Profesional
G25: 127 | H25: Gobierno | I25: Departamento Administrativo de la Defensoría del Espacio Público - DADEP | J25: Central | K25: Empleados público / Contratos de prestación de Servicios | P25: 235 | Q25: Director de Centro de Institución Universitaria | R25: Profesional
G26: 220 | H26: Gobierno | I26: Instituto Distrital de la Participación y Acción Comunal - IDPAC | J26: Descentralizado | K26: Empleados público / Contratos de prestación de Servicios | P26: 236 | Q26: Director de Centro de Escuela Tecnológica | R26: Profesional
G27: 118 | H27: Hábitat | I27: Secretaría Distrital del Hábitat | J27: Central | K27: Empleados público / Contratos de prestación de Servicios | P27: 237 | Q27: Profesional Universitario Área Salud | R27: Profesional
G28: 208 | H28: Hábitat | I28: Caja de Vivienda Popular - CVP | J28: Descentralizado | K28: Empleados público / Trabajadores Oficiales / Contratos de prestación de Servicios | P28: 242 | Q28: Profesional Especializado Área Salud | R28: Profesional
B29: =Caracterización!H49 -> Distrito 6 | G29: 228 | H29: Hábitat | I29: Unidad Administrativa Especial de Servicios Públicos - UAESP | J29: Descentralizado | K29: Empleados público / Contratos de prestación de Servicios | P29: 243 | Q29: Enfermero | R29: Profesional
B30: =Caracterización!H51 -> Distrito 7 | G30: 263 | H30: Hábitat | I30: Empresa de Renovación y Desarrollo Urbano - ERU | J30: Descentralizado | K30: Empleados público / Trabajadores Oficiales / Contratos de prestación de Servicios | P30: 244 | Q30: Enfermero Especialista | R30: Profesional
B31: =Caracterización!H53 -> 0 | G31: 265 | H31: Hábitat | I31: Empresa de Acueducto Alcantarillado y Aseo de Bogotá E.S.P. - EAAB | J31: Descentralizado | K31: Empleados público / Trabajadores Oficiales / Contratos de prestación de Servicios | P31: 260 | Q31: Director de Cárcel | R31: Profesional
B32: =Caracterización!H55 -> 0 | G32: 111 | H32: Hacienda | I32: Secretaría Distrital de Hacienda | J32: Central | K32: Empleados público / Contratos de prestación de Servicios | P32: 265 | Q32: Director de Banda | R32: Profesional
G33: 206 | H33: Hacienda | I33: Fondo De Prestaciones Económicas, Cesantías Y Pensiones - FONCEP | J33: Descentralizado | K33: Empleados público / Contratos de prestación de Servicios | P33: 270 | Q33: Director de Orquesta | R33: Profesional
G34: 226 | H34: Hacienda | I34: Unidad Administrativa Especial de Catastro Distrital - UAECD | J34: Descentralizado | K34: Empleados público / Contratos de prestación de Servicios | P34: 275 | Q34: Piloto de Aviación | R34: Profesional
G35: 240 | H35: Hacienda | I35: Lotería De Bogotá | J35: Descentralizado | K35: Empleados público / Trabajadores Oficiales / Contratos de prestación de Servicios | P35: 290 | Q35: Comandante de Tránsito | R35: Profesional
G36: 122 | H36: Integración Social | I36: Secretaría Distrital de Integración Social | J36: Central | K36: Empleados público / Contratos de prestación de Servicios | P36: 303 | Q36: Inspector de Policía 3ª a 6ª Categoría | R36: Técnico
G37: 214 | H37: Integración Social | I37: Instituto para la Protección de la Niñez y la Juventud - IDIPRON | J37: Descentralizado | K37: Empleados público / Contratos de prestación de Servicios | P37: 306 | Q37: Inspector de Policía Rural | R37: Técnico
G38: 1 | H38: Localidades | I38: Fondo de Desarrollo Local Usaquén | J38: Localidades | K38: Contratos de prestación de Servicios | P38: 312 | Q38: Inspector de Tránsito y Transporte | R38: Técnico
G39: 2 | H39: Localidades | I39: Fondo de Desarrollo Local Chapinero | J39: Localidades | K39: Contratos de prestación de Servicios | P39: 313 | Q39: Instructor | R39: Técnico
G40: 3 | H40: Localidades | I40: Fondo de Desarrollo Local Santa Fé | J40: Localidades | K40: Contratos de prestación de Servicios | P40: 314 | Q40: Técnico Operativo | R40: Técnico
G41: 4 | H41: Localidades | I41: Fondo de Desarrollo Local San Cristóbal | J41: Localidades | K41: Contratos de prestación de Servicios | P41: 323 | Q41: Técnico Área Salud | R41: Técnico
G42: 5 | H42: Localidades | I42: Fondo de Desarrollo Local Usme | J42: Localidades | K42: Contratos de prestación de Servicios | P42: 335 | Q42: Auxiliar de Vuelo | R42: Técnico
G43: 6 | H43: Localidades | I43: Fondo de Desarrollo Local Tunjuelito | J43: Localidades | K43: Contratos de prestación de Servicios | P43: 336 | Q43: Subcomandante de Bomberos | R43: Técnico
G44: 7 | H44: Localidades | I44: Fondo de Desarrollo Local Bosa | J44: Localidades | K44: Contratos de prestación de Servicios | P44: 338 | Q44: Subcomandante de transito | R44: Técnico
... G72: 425 | H72: Salud | I72: Subred Integrada de Servicios de Salud Sur E.S.E. | J72: Descentralizado | K72: Empleados público / Trabajadores Oficiales / Contratos de prestación de Servicios | P72: 490 | Q72: Operario Calificado | R72: Asistencial
G73: 426 | H73: Salud | I73: Subred Integrada de Servicios de Salud Norte E.S.E. | J73: Descentralizado | K73: Empleados público / Trabajadores Oficiales / Contratos de prestación de Servicios
G74: 131 | H74: Seguridad Convivencia y Justicia | I74: Unidad Administrativa Especial Cuerpo Oficial De Bomberos - UAECOB | J74: Central | K74: Empleados público / Contratos de prestación de Servicios
G75: 137 | H75: Seguridad Convivencia y Justicia | I75: Secretaría Distrital de Seguridad Convivencia y Justicia | J75: Central | K75: Empleados público / Contratos de prestación de Servicios
G76: 600 | H76: Privado | I76: Capital Salud EPS-S | J76: Privado | K76: Empleados régimen privado
G77: 601 | H77: Privado | I77: Corporación Bogotá Región Dinámica – Invest in Bogotá | J77: Privado | K77: Empleados régimen privado
G78: 602 | H78: Privado | I78: Empresa de Energía Electrica de Bogotá | J78: Privado | K78: Empleados régimen privado
G79: 603 | H79: Privado | I79: ETB S.A. ESP | J79: Privado | K79: Empleados régimen privado
G80: 604 | H80: Privado | I80: Entidad Asesora de Gestión Administrativa y Técnica | J80: Privado | K80: Empleados régimen privado
G81: 605 | H81: Privado | I81: Instituto Distrital de Ciencia, Biotecnología e Innovación en Salud | J81: Privado | K81: Empleados régimen privado
G82: 606 | H82: Privado | I82: Terminal de Transporte de Bogotá | J82: Privado | K82: Empleados régimen privado
